BEGIN:VCALENDAR
VERSION:2.0
PRODID:-//SVTIdaho - ECPv6.15.20//NONSGML v1.0//EN
CALSCALE:GREGORIAN
METHOD:PUBLISH
X-ORIGINAL-URL:https://svtidaho.org
X-WR-CALDESC:Events for SVTIdaho
REFRESH-INTERVAL;VALUE=DURATION:PT1H
X-Robots-Tag:noindex
X-PUBLISHED-TTL:PT1H
BEGIN:VTIMEZONE
TZID:America/Denver
BEGIN:DAYLIGHT
TZOFFSETFROM:-0700
TZOFFSETTO:-0600
TZNAME:MDT
DTSTART:20240310T090000
END:DAYLIGHT
BEGIN:STANDARD
TZOFFSETFROM:-0600
TZOFFSETTO:-0700
TZNAME:MST
DTSTART:20241103T080000
END:STANDARD
BEGIN:DAYLIGHT
TZOFFSETFROM:-0700
TZOFFSETTO:-0600
TZNAME:MDT
DTSTART:20250309T090000
END:DAYLIGHT
BEGIN:STANDARD
TZOFFSETFROM:-0600
TZOFFSETTO:-0700
TZNAME:MST
DTSTART:20251102T080000
END:STANDARD
BEGIN:DAYLIGHT
TZOFFSETFROM:-0700
TZOFFSETTO:-0600
TZNAME:MDT
DTSTART:20260308T090000
END:DAYLIGHT
BEGIN:STANDARD
TZOFFSETFROM:-0600
TZOFFSETTO:-0700
TZNAME:MST
DTSTART:20261101T080000
END:STANDARD
END:VTIMEZONE
BEGIN:VEVENT
DTSTART;TZID=America/Denver:20250808T000000
DTEND;TZID=America/Denver:20250808T000000
DTSTAMP:20260424T180510
CREATED:20250723T043905Z
LAST-MODIFIED:20250723T211953Z
UID:539-1754611200-1754611200@svtidaho.org
SUMMARY:Rig/Yajur Upakarma\, Varalakshmi Vratam
DESCRIPTION:
URL:https://svtidaho.org/event/rig-yajur-upakarma-varalakshmi-vratam/
ATTACH;FMTTYPE=image/webp:https://svtidaho.org/wp-content/uploads/2024/12/90f6ab4a87a347e0812f66dc9a1e22a0-1.webp
END:VEVENT
BEGIN:VEVENT
DTSTART;TZID=America/Denver:20250807T190000
DTEND;TZID=America/Denver:20250807T190000
DTSTAMP:20260424T180510
CREATED:20250723T043905Z
LAST-MODIFIED:20250723T211952Z
UID:538-1754593200-1754593200@svtidaho.org
SUMMARY:Baba Aarthi
DESCRIPTION:
URL:https://svtidaho.org/event/baba-aarthi/
ATTACH;FMTTYPE=image/webp:https://svtidaho.org/wp-content/uploads/2024/12/90f6ab4a87a347e0812f66dc9a1e22a0-1.webp
END:VEVENT
BEGIN:VEVENT
DTSTART;TZID=America/Denver:20250806T190000
DTEND;TZID=America/Denver:20250806T190000
DTSTAMP:20260424T180510
CREATED:20250723T043904Z
LAST-MODIFIED:20250723T211951Z
UID:537-1754506800-1754506800@svtidaho.org
SUMMARY:Pradhosham Rudra Abishekam
DESCRIPTION:
URL:https://svtidaho.org/event/pradhosham-rudra-abishekam/
ATTACH;FMTTYPE=image/webp:https://svtidaho.org/wp-content/uploads/2024/12/90f6ab4a87a347e0812f66dc9a1e22a0-1.webp
END:VEVENT
BEGIN:VEVENT
DTSTART;TZID=America/Denver:20250805T190000
DTEND;TZID=America/Denver:20250805T190000
DTSTAMP:20260424T180510
CREATED:20250723T043904Z
LAST-MODIFIED:20250723T211951Z
UID:536-1754420400-1754420400@svtidaho.org
SUMMARY:Moolam Hanuman Abishekam
DESCRIPTION:
URL:https://svtidaho.org/event/moolam-hanuman-abishekam/
ATTACH;FMTTYPE=image/webp:https://svtidaho.org/wp-content/uploads/2024/12/90f6ab4a87a347e0812f66dc9a1e22a0-1.webp
END:VEVENT
BEGIN:VEVENT
DTSTART;TZID=America/Denver:20250804T190000
DTEND;TZID=America/Denver:20250804T190000
DTSTAMP:20260424T180510
CREATED:20250723T043903Z
LAST-MODIFIED:20250723T211949Z
UID:535-1754334000-1754334000@svtidaho.org
SUMMARY:Ekadhashi\,Somavara Rudrabishekam
DESCRIPTION:
URL:https://svtidaho.org/event/ekadhashisomavara-rudrabishekam/
ATTACH;FMTTYPE=image/webp:https://svtidaho.org/wp-content/uploads/2024/12/90f6ab4a87a347e0812f66dc9a1e22a0-1.webp
END:VEVENT
END:VCALENDAR